BEGIN:VCALENDAR
VERSION:2.0
PRODID:-//PCNC - ECPv6.15.17//NONSGML v1.0//EN
CALSCALE:GREGORIAN
METHOD:PUBLISH
X-ORIGINAL-URL:https://panteraclubnorcal.net
X-WR-CALDESC:Events for PCNC
REFRESH-INTERVAL;VALUE=DURATION:PT1H
X-Robots-Tag:noindex
X-PUBLISHED-TTL:PT1H
BEGIN:VTIMEZONE
TZID:UTC
BEGIN:STANDARD
TZOFFSETFROM:+0000
TZOFFSETTO:+0000
TZNAME:UTC
DTSTART:20250101T000000
END:STANDARD
END:VTIMEZONE
BEGIN:VTIMEZONE
TZID:America/Los_Angeles
BEGIN:DAYLIGHT
TZOFFSETFROM:-0800
TZOFFSETTO:-0700
TZNAME:PDT
DTSTART:20250309T100000
END:DAYLIGHT
BEGIN:STANDARD
TZOFFSETFROM:-0700
TZOFFSETTO:-0800
TZNAME:PST
DTSTART:20251102T090000
END:STANDARD
BEGIN:DAYLIGHT
TZOFFSETFROM:-0800
TZOFFSETTO:-0700
TZNAME:PDT
DTSTART:20260308T100000
END:DAYLIGHT
BEGIN:STANDARD
TZOFFSETFROM:-0700
TZOFFSETTO:-0800
TZNAME:PST
DTSTART:20261101T090000
END:STANDARD
BEGIN:DAYLIGHT
TZOFFSETFROM:-0800
TZOFFSETTO:-0700
TZNAME:PDT
DTSTART:20270314T100000
END:DAYLIGHT
BEGIN:STANDARD
TZOFFSETFROM:-0700
TZOFFSETTO:-0800
TZNAME:PST
DTSTART:20271107T090000
END:STANDARD
END:VTIMEZONE
BEGIN:VTIMEZONE
TZID:America/Los_Angeles
BEGIN:DAYLIGHT
TZOFFSETFROM:-0800
TZOFFSETTO:-0700
TZNAME:PDT
DTSTART:20250309T100000
END:DAYLIGHT
BEGIN:STANDARD
TZOFFSETFROM:-0700
TZOFFSETTO:-0800
TZNAME:PST
DTSTART:20251102T090000
END:STANDARD
BEGIN:DAYLIGHT
TZOFFSETFROM:-0800
TZOFFSETTO:-0700
TZNAME:PDT
DTSTART:20260308T100000
END:DAYLIGHT
BEGIN:STANDARD
TZOFFSETFROM:-0700
TZOFFSETTO:-0800
TZNAME:PST
DTSTART:20261101T090000
END:STANDARD
BEGIN:DAYLIGHT
TZOFFSETFROM:-0800
TZOFFSETTO:-0700
TZNAME:PDT
DTSTART:20270314T100000
END:DAYLIGHT
BEGIN:STANDARD
TZOFFSETFROM:-0700
TZOFFSETTO:-0800
TZNAME:PST
DTSTART:20271107T090000
END:STANDARD
END:VTIMEZONE
BEGIN:VEVENT
DTSTART;TZID=UTC:20261205T073000
DTEND;TZID=UTC:20261205T120000
DTSTAMP:20260422T171224
CREATED:20260216T184327Z
LAST-MODIFIED:20260216T184327Z
UID:10000337-1796455800-1796472000@panteraclubnorcal.net
SUMMARY:Laguna Seca Cars & Coffee
DESCRIPTION:
URL:https://panteraclubnorcal.net/event/laguna-seca-cars-coffee-3/
LOCATION:Laguna Seca Raceway\, 1021 Monterey Salinas Hwy\, Salinas\, CA\, 93908\, United States
CATEGORIES:Cars & Coffee
END:VEVENT
BEGIN:VEVENT
DTSTART;TZID=America/Los_Angeles:20261205T180000
DTEND;TZID=America/Los_Angeles:20261205T220000
DTSTAMP:20260422T171224
CREATED:20260216T190034Z
LAST-MODIFIED:20260216T190034Z
UID:10000339-1796493600-1796508000@panteraclubnorcal.net
SUMMARY:PCNC Holiday Party & Awards Banquet
DESCRIPTION:Sign up for the Banquet on-line and pay with your credit card or PayPal account. Or if you wish\, send\nyour check for dinner reservations. Be sure to put your name(s) and meal choices on the memo line if\nyou send a check. Dinner reservations must be received by November 24th \nWHEN: Saturday\, December 5th. Reception\, no-host bar\, and entertainment begin at 6:00pm.\nDinner is at 7:30pm.\nWHERE: The Hilton Garden Inn\, 2000 Bridgepointe Circle\, San Mateo\, CA 94404. 650-522-9000.\nOrchid Room – First floor\, to the left of the reception when you enter.\nPLATED DINNER CHOICES: TBD\nBANQUET PAYMENT: TBD
URL:https://panteraclubnorcal.net/event/pcnc-holiday-party-awards-banquet-2/
LOCATION:Hilton Garden Inn\, 2000 Bridgepointe Circle\, San Mateo\, CA\, 94404\, United States
CATEGORIES:Club Event,Party
ATTACH;FMTTYPE=image/jpeg:https://panteraclubnorcal.net/wp-content/uploads/2025/11/De-Tomaso-Mangusta-13-1536x864-1-e1763682563324.jpg
END:VEVENT
BEGIN:VEVENT
DTSTART;TZID=UTC:20261206T080000
DTEND;TZID=UTC:20261206T110000
DTSTAMP:20260422T171224
CREATED:20250619T222908Z
LAST-MODIFIED:20260204T004507Z
UID:10000213-1796544000-1796554800@panteraclubnorcal.net
SUMMARY:Willow Glen Coffee & Cars
DESCRIPTION:First Sunday of every month on Lincoln Avenue in downtown Willow Glen.
URL:https://panteraclubnorcal.net/event/willow-glen-coffee-cars/2026-12-06/
LOCATION:Downtown Willow Glen\, Lincoln Ave.\, San Jose\, CA\, 95125\, United States
CATEGORIES:Cars & Coffee
ATTACH;FMTTYPE=image/jpeg:https://panteraclubnorcal.net/wp-content/uploads/2025/06/wg-coffee-cars-blk-e1770165886941.jpg
END:VEVENT
BEGIN:VEVENT
DTSTART;TZID=America/Los_Angeles:20261212T070000
DTEND;TZID=America/Los_Angeles:20261212T110000
DTSTAMP:20260422T171224
CREATED:20241022T211004Z
LAST-MODIFIED:20260204T004005Z
UID:10000147-1797058800-1797073200@panteraclubnorcal.net
SUMMARY:Ronnie's Morning Get Together
DESCRIPTION:Cars & Coffee style get together which typically hosts 150-200 cars of all makes and styles\, from classic hot rods to late model exotics\, and everything in between. \nFree Coffee & Donuts \n  \nWhen: The 2nd Saturday of every month.
URL:https://panteraclubnorcal.net/event/ronnies-morning-get-together-9/2026-12-12/
LOCATION:AutoZone\, 5566 Cottle Road\, San Jose\, CA\, 95123\, United States
CATEGORIES:Car Show,Cars & Coffee
ATTACH;FMTTYPE=image/jpeg:https://panteraclubnorcal.net/wp-content/uploads/2024/10/Ronnies-Morning-Get-Together-e1770165985630.jpg
END:VEVENT
BEGIN:VEVENT
DTSTART;TZID=America/Los_Angeles:20261220T080000
DTEND;TZID=America/Los_Angeles:20261220T110000
DTSTAMP:20260422T171224
CREATED:20241022T212318Z
LAST-MODIFIED:20260204T005055Z
UID:10000280-1797753600-1797764400@panteraclubnorcal.net
SUMMARY:Morgan Hill Cars & Coffee
DESCRIPTION:
URL:https://panteraclubnorcal.net/event/morgan-hill-cars-coffee-8/2026-12-20/
LOCATION:Hobby Lobby\, 990 Cochrane Road\, Morgan Hill\, CA\, 95037\, United States
CATEGORIES:Cars & Coffee
ATTACH;FMTTYPE=image/jpeg:https://panteraclubnorcal.net/wp-content/uploads/2024/10/Exotic-Cars-Coffee-2-e1770166243766.jpg
END:VEVENT
END:VCALENDAR