BEGIN:VCALENDAR
VERSION:2.0
PRODID:-//PCNC - ECPv6.15.17//NONSGML v1.0//EN
CALSCALE:GREGORIAN
METHOD:PUBLISH
X-ORIGINAL-URL:https://panteraclubnorcal.net
X-WR-CALDESC:Events for PCNC
REFRESH-INTERVAL;VALUE=DURATION:PT1H
X-Robots-Tag:noindex
X-PUBLISHED-TTL:PT1H
BEGIN:VTIMEZONE
TZID:UTC
BEGIN:STANDARD
TZOFFSETFROM:+0000
TZOFFSETTO:+0000
TZNAME:UTC
DTSTART:20230101T000000
END:STANDARD
END:VTIMEZONE
BEGIN:VEVENT
DTSTART;VALUE=DATE:20240824
DTEND;VALUE=DATE:20240825
DTSTAMP:20260417T120725
CREATED:20240802T220521Z
LAST-MODIFIED:20240802T220521Z
UID:10000017-1724457600-1724543999@panteraclubnorcal.net
SUMMARY:International "Drive Your Pantera Day"
DESCRIPTION:
URL:https://panteraclubnorcal.net/event/international-drive-your-pantera-day/
ATTACH;FMTTYPE=image/png:https://panteraclubnorcal.net/wp-content/uploads/2024/08/Capture.png
END:VEVENT
BEGIN:VEVENT
DTSTART;TZID=UTC:20240829T190000
DTEND;TZID=UTC:20240829T210000
DTSTAMP:20260417T120725
CREATED:20240802T221036Z
LAST-MODIFIED:20240802T221243Z
UID:10000018-1724958000-1724965200@panteraclubnorcal.net
SUMMARY:PCNC Monthly Meeting
DESCRIPTION:The monthly PCNC Meeting is held at the Black Bear Diner on W. Calaveras Blvd in Milpitas on the last Thursday of each month @ 7:30 P.M.\n\n\nJoin us for great fun and fellowship with other DeTomaso enthusiasts.\n\n\n \n\n\nAgenda\n\n\n\nWelcome new members & guests\n\n\nCorrections to prior meeting minutes\n\n\nClub Store report\n\n\nTreasury report\n\n\nMembership report\n\n\nMotorsports report\n\n\nWebsite updates\n\n\nClub Library\n\n\nPast Events review\n\n\nUpcoming events\n\n\nClub Business\n\n\nBuy/Sell/Swap\n\n\nNews\, Clues and Rumors\n\n\nClub Raffle
URL:https://panteraclubnorcal.net/event/pcnc-monthly-meeting/
LOCATION:Black Bear Diner\, 174 W Calaveras Blvd\, Milpitas\, CA\, 95035\, United States
ATTACH;FMTTYPE=image/jpeg:https://panteraclubnorcal.net/wp-content/uploads/2024/07/factory-20at-20via-20jacopo-20peri_orig.jpg
END:VEVENT
END:VCALENDAR