BEGIN:VCALENDAR
VERSION:2.0
PRODID:-//PCNC - ECPv6.15.17//NONSGML v1.0//EN
CALSCALE:GREGORIAN
METHOD:PUBLISH
X-ORIGINAL-URL:https://panteraclubnorcal.net
X-WR-CALDESC:Events for PCNC
REFRESH-INTERVAL;VALUE=DURATION:PT1H
X-Robots-Tag:noindex
X-PUBLISHED-TTL:PT1H
BEGIN:VTIMEZONE
TZID:UTC
BEGIN:STANDARD
TZOFFSETFROM:+0000
TZOFFSETTO:+0000
TZNAME:UTC
DTSTART:20230101T000000
END:STANDARD
END:VTIMEZONE
BEGIN:VEVENT
DTSTART;TZID=UTC:20240413T070000
DTEND;TZID=UTC:20240413T110000
DTSTAMP:20260415T075053
CREATED:20240715T120759Z
LAST-MODIFIED:20240715T120759Z
UID:10000007-1712991600-1713006000@panteraclubnorcal.net
SUMMARY:Ronnie's Morning Get Together
DESCRIPTION:Cars & Coffee style gathering of automotive enthusiasts\, with a diverse collection of car attending; from late model exotics\, rat rods\, muscle cars\, classics\, to off-road rigs\, and everything inbetween.
URL:https://panteraclubnorcal.net/event/ronnies-morning-get-together/
LOCATION:Starbucks\, Hillsdale Avenue\, San Jose\, CA\, USA
CATEGORIES:Cars & Coffee
ATTACH;FMTTYPE=image/jpeg:https://panteraclubnorcal.net/wp-content/uploads/2024/07/Ronnies.jpg
END:VEVENT
BEGIN:VEVENT
DTSTART;TZID=UTC:20240414T090000
DTEND;TZID=UTC:20240414T110000
DTSTAMP:20260415T075053
CREATED:20240715T121137Z
LAST-MODIFIED:20240715T121137Z
UID:10000008-1713085200-1713092400@panteraclubnorcal.net
SUMMARY:San Jose Mustangs Cars & Coffee
DESCRIPTION:The San Jose Mustangs Cars and Coffee is the second Sunday of every month from 9am to 11am at Buffalo Wild Wings\, 859 Blossom Hill Road San Jose.
URL:https://panteraclubnorcal.net/event/san-jose-mustangs-cars-coffee/
LOCATION:Buffalo Wild Wings\, Blossom Hill Road\, San Jose\, CA\, USA
CATEGORIES:Cars & Coffee
ATTACH;FMTTYPE=image/webp:https://panteraclubnorcal.net/wp-content/uploads/2024/07/sj-mustangs-cars-coffee.webp
END:VEVENT
BEGIN:VEVENT
DTSTART;TZID=UTC:20240421T080000
DTEND;TZID=UTC:20240421T110000
DTSTAMP:20260415T075053
CREATED:20240715T121442Z
LAST-MODIFIED:20240715T121442Z
UID:10000009-1713686400-1713697200@panteraclubnorcal.net
SUMMARY:Morgan Hill Exotic Cars & Coffee
DESCRIPTION:The Morgan Hill Exotic Cars & Coffee is held the third Sunday of the month from 8am to 11am at Hobby Lobby\, 990 Cochrane Road.
URL:https://panteraclubnorcal.net/event/morgan-hill-exotic-cars-coffee/
LOCATION:Hobby Lobby\, Cochrane Road\, Morgan Hill\, CA\, USA
CATEGORIES:Cars & Coffee
ATTACH;FMTTYPE=image/jpeg:https://panteraclubnorcal.net/wp-content/uploads/2024/07/Morgan-Hill-Cars-Coffee.jpg
END:VEVENT
BEGIN:VEVENT
DTSTART;TZID=UTC:20240425T193000
DTEND;TZID=UTC:20240425T203000
DTSTAMP:20260415T075053
CREATED:20240715T122001Z
LAST-MODIFIED:20240715T122001Z
UID:10000010-1714073400-1714077000@panteraclubnorcal.net
SUMMARY:PCNC Monthly Meeting
DESCRIPTION:The monthly PCNC Meeting is held at the Black Bear Diner on W. Calaveras Blvd in Milpitas on the last Thursday of each month @ 7:30 P.M. \nJoin us for great fun and fellowship with other DeTomaso enthusiasts. \n  \nAgenda \n\nWelcome new members & guests\nCorrections to prior meeting minutes\nClub Store report\nTreasury report\nMembership report\nMotorsports report\nWebsite updates\nClub Library\nPast Events review\nUpcoming events\nClub Business\nBuy/Sell/Swap\nNews\, Clues and Rumors\nClub Raffle
URL:https://panteraclubnorcal.net/event/pcnc-monthly-meeting-2/
LOCATION:Denny’s
CATEGORIES:Monthly Meeting
ATTACH;FMTTYPE=image/jpeg:https://panteraclubnorcal.net/wp-content/uploads/2024/07/860595_1002814553091052_1622053768775201060_o-e1729550117905.jpg
END:VEVENT
END:VCALENDAR